BEGIN:VCALENDAR
PRODID:-//IONAS//RIS//DE
VERSION:2.0
CALSCALE:GREGORIAN
BEGIN:VEVENT
DTSTAMP:20260421T085659Z
DTSTART:20220201T170000
DTEND:20220201T181300
SUMMARY:öffentliche/nicht öffentliche Sitzung des Ausschusses für Kinder\
 , Jugendliche und Familien
LOCATION:Gesamtschule Ennigerloh-Neubeckum – Mensa\, \, null null
DESCRIPTION:Tagesordnungspunkte\n1 Anfragen von Einwohnerinnen und Einwoh
 nern\n2 Niederschrift über die Sitzung des Ausschusses für Kinder\, Juge
 ndliche und Familien vom 16.11.2021 – öffentlicher Teil –\n3 Bericht der
  Verwaltung\n4 Bericht über offene Anträge und Anfragen der Fraktionen s
 owie über offene Anregungen und Beschwerden gemäß § 24 Gemeindeordnung f
 ür das Land Nordrhein-Westfalen\n5 Fortschreibung der Bedarfsplanung Kin
 dertagesbetreuung für das Betreuungsjahr 2022/2023\n6 3. Änderung der Sa
 tzung zur Förderung der Kindertagespflege – Vertretung in der Kindertage
 spflege\n7 Elternumfrage zur Qualität in der Kindertagesbetreuung\n8 Inv
 estor(inn)enauswahlverfahren – Integrierte Gesamtplanung \"Auf dem Jakob
 \" – Folgenutzung des aktuellen Schulstandortes der Astrid-Lindgren-Schu
 le\n8.1 Investor(inn)enauswahlverfahren – Integrierte Gesamtplanung \"Au
 f dem Jakob\" – Folgenutzung des aktuellen Schulstandortes der Astrid-Li
 ndgren-Schule\n9 Anfragen von Ausschussmitgliedern
UID:HdGNl4u_aZ0Ljd7g
END:VEVENT
END:VCALENDAR
