BEGIN:VCALENDAR
PRODID:-//IONAS//RIS//DE
VERSION:2.0
CALSCALE:GREGORIAN
BEGIN:VEVENT
DTSTAMP:20260420T191237Z
DTSTART:20260120T173000
DTEND:20260120T185700
SUMMARY:öffentliche/nicht öffentliche Sitzung des Ausschusses für Inklusi
 on\, Gleichstellung\, Soziales\, Wohnen und Ehrenamt
LOCATION:Rosa Parks Gesamtschule – Mensa\, \, null null
DESCRIPTION:Tagesordnungspunkte\n1 Bestellung einer Schriftführung und ei
 ner stellvertretenden Schriftführung\n2 Einführung und Verpflichtung der
  Ausschussmitglieder\, die nicht Ratsmitglied sind\n3 Anfragen von Einwo
 hnerinnen und Einwohnern\n4 Bericht der Verwaltung\n5 Bericht über offen
 e Anträge und Anfragen der Fraktionen sowie über offene Anregungen und B
 eschwerden gemäß § 24 Gemeindeordnung für das Land Nordrhein-Westfalen\n
 6 Sachstandsbericht über die Versorgungssituation von gewaltbetroffenen 
 Frauen und Mädchen\n7 Anforderungen aus dem Gesetz zur Sicherung des Zug
 angs zu Schutz und Beratung bei geschlechtsspezifischer und häuslicher G
 ewalt an die Frauenberatungsstelle Beckum in Bezug auf die Sicherstellun
 g eines wirksamen Schutzes für gewaltbetroffene Frauen\n8 Bildung eines 
 Arbeitskreises \"Seniorinnen- und Seniorenplanung\" zur Fortschreibung d
 es Handlungskonzeptes \"Seniorinnen- und Seniorenplanung 2025 – 2029\"\n
 9 Bildung eines Arbeitskreises \"Begegnung\"\n10 Beratung des Haushaltsp
 lanentwurfes 2026 für die Bereiche Soziales und Gleichstellung\n11 Anfra
 gen von Ausschussmitgliedern
UID:LwPnSTPzRjINilt7
END:VEVENT
END:VCALENDAR
