BEGIN:VCALENDAR
PRODID:-//IONAS//RIS//DE
VERSION:2.0
CALSCALE:GREGORIAN
BEGIN:VEVENT
DTSTAMP:20260420T191131Z
DTSTART:20260423T180000
DTEND:20260423T000000
SUMMARY:nicht öffentliche Sitzung des Rechnungsprüfungsausschusses
LOCATION:Antoniusschule – Aula\, \, null null
DESCRIPTION:Tagesordnungspunkte\n1 Bestellung einer Schriftführung und st
 ellvertretender Schriftführungen\n2 Einführung und Verpflichtung der Aus
 schussmitglieder\, die nicht Ratsmitglied sind\n3 Änderung der Rechnungs
 prüfungsordnung der Stadt Beckum\n4 Änderung der Dienstanweisung für die
  Örtliche Rechnungsprüfung
UID:QrV7orjy-hYABfOA
END:VEVENT
END:VCALENDAR
