BEGIN:VCALENDAR
PRODID:-//IONAS//RIS//DE
VERSION:2.0
CALSCALE:GREGORIAN
BEGIN:VEVENT
DTSTAMP:20260421T122824Z
DTSTART:20220222T170000
DTEND:20220222T182000
SUMMARY:öffentliche/nicht öffentliche Sitzung des Rates der Stadt Beckum
LOCATION:Berufskolleg Beckum – Aula\, \, null null
DESCRIPTION:Tagesordnungspunkte\n1 Anfragen von Einwohnerinnen und Einwoh
 nern\n2 Niederschrift über die Sitzung des Rates der Stadt Beckum vom 21
 .12.2021 – öffentlicher Teil –\n3 Bericht des Bürgermeisters\n4 Bericht 
 über offene Anträge und Anfragen der Fraktionen sowie über offene Anregu
 ngen und Beschwerden gemäß § 24 Gemeindeordnung für das Land Nordrhein-W
 estfalen\n5 3. Änderung der Satzung zur Förderung der Kindertagespflege 
 – Vertretung in der Kindertagespflege\n6 Abschluss eines städtebaulichen
  Vertrages mit der neuen Eigentümerin zur Entwicklung von Wohnbebauung i
 m Bebauungsplan Nummer 37 \"Südring\" – 3. Änderung\n7 Abschluss eines s
 tädtebaulichen Vertrages mit der Phoenix Zementwerke Krogbeumker Holding
  GmbH & Co. KG zur Erschließung eines Grundstücks zur Errichtung eines B
 etriebsstandortes außerhalb des Geltungsbereichs eines Bebauungsplans\n8
  Städtebaulicher Vertrag zur Übernahme von Planungsleistungen und -koste
 n zur Aufstellung des vorhabenbezogenen Bebauungsplanes „Aldi Lippweg“ s
 owie die Änderung des Flächennutzungsplans\n9 Städtebaulicher Vertrag zu
 r Übernahme von Planungsleistungen und -kosten zur Änderung des Bebauung
 splanes Nummer N 67 \"Vellerner Straße\" sowie die Änderung des Flächenn
 utzungsplans\n10 Investor(inn)enauswahlverfahren – Integrierte Gesamtpla
 nung \"Auf dem Jakob\" – Folgenutzung des aktuellen Schulstandortes der 
 Astrid-Lindgren-Schule\n10.1 Investor(inn)enauswahlverfahren – Integrier
 te Gesamtplanung \"Auf dem Jakob\" – Folgenutzung des aktuellen Schulsta
 ndortes der Astrid-Lindgren-Schule\n11 Änderung der Bädergebührensatzung
 \n11.1 Änderung der Bädergebührensatzung\n11.2 Änderung der Bädergebühre
 nsatzung\n12 Anregung nach § 24 Gemeindeordnung für das Land Nordrhein-W
 estfalen – Bodendenkmal Landwehr\n13 Umbesetzungen in Ausschüssen und Gr
 emien von juristischen Personen und Personenvereinigungen\n14 Anfragen v
 on Ratsmitgliedern
UID:RgvGSJQKL1s-bSP6
END:VEVENT
END:VCALENDAR
