BEGIN:VCALENDAR
PRODID:-//IONAS//RIS//DE
VERSION:2.0
CALSCALE:GREGORIAN
BEGIN:VEVENT
DTSTAMP:20260421T085628Z
DTSTART:20251209T173000
DTEND:20251209T184600
SUMMARY:öffentliche/nicht öffentliche Sitzung des Haupt-\, Finanz- und Di
 gitalausschusses
LOCATION:Antoniusschule – Aula\, \, null null
DESCRIPTION:Tagesordnungspunkte\n1 Bestellung einer Schriftführung und st
 ellvertretender Schriftführungen\n2 Anfragen von Einwohnerinnen und Einw
 ohnern\n3 Bericht der Verwaltung\n4 Wahl der stellvertretenden Vorsitzen
 den\n5 Bericht über die Entwicklung der Kreditverbindlichkeiten der Stad
 t Beckum sowie über wichtige Investitionsvorhaben und strategische Grund
 satzentscheidungen der Beteiligungen im 3. Quartal 2025\n6 Bericht zum F
 orderungsmanagement der Stadt Beckum\n7 Änderung des Gesellschaftsvertra
 gs der Gesellschaft für Wirtschaftsförderung im Kreis Warendorf mbH\n8 S
 tellungnahme der Stadt Beckum zum Entwurf der Haushaltssatzung 2026 des 
 Kreises Warendorf\n9 Neufassung der Friedhofsgebührensatzung\n10 Gebühre
 nvergleich für einen Musterhaushalt in der Stadt Beckum\n11 Änderung der
  Gewässerunterhaltungsgebührensatzung\n12 Änderung der Straßenreinigungs
 - und Gebührensatzung\n13 Änderung der Abfallgebührensatzung\n14 Aufhebu
 ng des Vergaberechts für nationale Vergabeverfahren\n15 Anfragen von Aus
 schussmitgliedern
UID:qQxVnijYlK6g27Bl
END:VEVENT
END:VCALENDAR
