BEGIN:VCALENDAR
PRODID:-//IONAS//RIS//DE
VERSION:2.0
CALSCALE:GREGORIAN
BEGIN:VEVENT
DTSTAMP:20260420T153916Z
DTSTART:20261125T173000
DTEND:20261125T000000
SUMMARY:öffentliche/nicht öffentliche Sitzung des Ausschusses für Stadten
 twicklung
LOCATION:Antoniusschule – Aula\, \, null null
DESCRIPTION:
UID:siKE2AP-Ed3QGPpa
END:VEVENT
END:VCALENDAR
