BEGIN:VCALENDAR
PRODID:-//IONAS//RIS//DE
VERSION:2.0
CALSCALE:GREGORIAN
BEGIN:VEVENT
DTSTAMP:20260421T154120Z
DTSTART:20220202T170000
DTEND:20220202T191600
SUMMARY:öffentliche/nicht öffentliche Sitzung des Ausschusses für Bauen\,
  Umwelt\, Klimaschutz\, Energie und Vergaben
LOCATION:Antoniusschule – Aula\, \, null null
DESCRIPTION:Tagesordnungspunkte\n1 Anfragen von Einwohnerinnen und Einwoh
 nern\n2 Niederschrift über die Sitzung des Ausschusses für Bauen\, Umwel
 t\, Klimaschutz\, Energie und Vergaben vom 05.01.2022 – öffentlicher Tei
 l –\n3 Bericht der Verwaltung\n4 Umgestaltung der Straße \"Am Volkspark\
 " – Genehmigung der Ausführungsplanung und des Bauprogramms\n5 Errichtun
 g eines Feuerwehrgerätehauses mit angegliederter Rettungswache im Stadtt
 eil Neubeckum – Beschlussfassung über die Installation einer Netzersatza
 nlage\n5.1 Errichtung eines Feuerwehrgerätehauses mit angegliederter Ret
 tungswache im Stadtteil Neubeckum - Beschlussfassung über die Regenwasse
 rnutzung\n6 Umgestaltung Kirchplatz Beckum\n7 Abschluss eines städtebaul
 ichen Vertrages mit der neuen Eigentümerin zur Entwicklung von Wohnbebau
 ung im Bebauungsplan Nummer 37 \"Südring\" – 3. Änderung\n8 Abschluss ei
 nes städtebaulichen Vertrages mit der Phoenix Zementwerke Krogbeumker Ho
 lding GmbH & Co. KG zur Erschließung eines Grundstücks zur Errichtung ei
 nes Betriebsstandortes außerhalb des Geltungsbereichs eines Bebauungspla
 ns\n9 Anfragen von Ausschussmitgliedern
UID:xhd_JrKtPGheicWB
END:VEVENT
END:VCALENDAR
