BEGIN:VCALENDAR
PRODID:-//IONAS//RIS//DE
VERSION:2.0
CALSCALE:GREGORIAN
BEGIN:VEVENT
DTSTAMP:20260420T172037Z
DTSTART:20250904T170000
DTEND:20250904T183000
SUMMARY:nicht öffentliche Sitzung des Rechnungsprüfungsausschusses
LOCATION:Rathaus Beckum – Besprechungsraum 152\, \, null null
DESCRIPTION:
UID:-xGqQp5JTQcxTc7C
END:VEVENT
END:VCALENDAR
