BEGIN:VCALENDAR
PRODID:-//IONAS//RIS//DE
VERSION:2.0
CALSCALE:GREGORIAN
BEGIN:VEVENT
DTSTAMP:20260420T172037Z
DTSTART:20230905T170000
DTEND:20230905T185500
SUMMARY:nicht öffentliche Sitzung des Rechnungsprüfungsausschusses
LOCATION:Antoniusschule – Aula\, \, null null
DESCRIPTION:
UID:1OdEVgs0wqdG0zXH
END:VEVENT
END:VCALENDAR
