BEGIN:VCALENDAR
PRODID:-//IONAS//RIS//DE
VERSION:2.0
CALSCALE:GREGORIAN
BEGIN:VEVENT
DTSTAMP:20260420T172039Z
DTSTART:20220830T170000
DTEND:20220830T184500
SUMMARY:nicht öffentliche Sitzung des Rechnungsprüfungsausschusses
LOCATION:Antoniusschule – Aula\, \, null null
DESCRIPTION:
UID:1j7iLm0xuM4aLQpM
END:VEVENT
END:VCALENDAR
