BEGIN:VCALENDAR
PRODID:-//IONAS//RIS//DE
VERSION:2.0
CALSCALE:GREGORIAN
BEGIN:VEVENT
DTSTAMP:20260420T135614Z
DTSTART:20250925T170000
DTEND:20250925T180700
SUMMARY:öffentliche/nicht öffentliche Sitzung des Ausschusses für Stadten
 twicklung
LOCATION:Antoniusschule – Aula\, \, null null
DESCRIPTION:Tagesordnungspunkte\n1 Anfragen von Einwohnerinnen und Einwoh
 nern\n2 Niederschrift über die Sitzung des Ausschusses für Stadtentwickl
 ung vom 02.09.2025 – öffentlicher Teil –\n3 Bericht der Verwaltung\n4 Be
 richt über offene Anträge und Anfragen der Fraktionen sowie über offene 
 Anregungen und Beschwerden gemäß § 24 Gemeindeordnung für das Land Nordr
 hein-Westfalen\n5 Bauvorhaben Wilhelmstraße 61 – Neubau eines Mehrfamili
 enhauses mit 35 Wohneinheiten\n6 2. Änderung des Bebauungsplans Nummer 1
 5 \"Neubeckumer Straße/Grüner Weg\" – Beschluss über die städtebauliche 
 Rahmenstruktur\n7 Anfragen von Ausschussmitgliedern
UID:4PI5z5vzHf8aj296
END:VEVENT
END:VCALENDAR
