BEGIN:VCALENDAR
PRODID:-//IONAS//RIS//DE
VERSION:2.0
CALSCALE:GREGORIAN
BEGIN:VEVENT
DTSTAMP:20260420T135723Z
DTSTART:20241001T170000
DTEND:20241001T195800
SUMMARY:öffentliche/nicht öffentliche Sitzung des Ausschusses für Stadten
 twicklung
LOCATION:Freizeithaus Neubeckum\, \, null null
DESCRIPTION:Tagesordnungspunkte\n1 Anfragen von Einwohnerinnen und Einwoh
 nern\n2 Niederschrift über die Sitzung des Ausschusses für Stadtentwickl
 ung vom 03.09.2024 – öffentlicher Teil –\n3 Bericht der Verwaltung\n4 Ve
 rkehrsplanung Hansaring und Südring – Beschluss der Entwurfsplanung – An
 trag der FWG-Fraktion vom 17.05.2024\n Verkehrsplanung Hansaring und Süd
 ring – Beschluss Abschnitt Südring\n Verkehrsplanung Hansaring und Südri
 ng – Beschluss Abschnitt Hansaring\n Verkehrsplanung Hansaring und Südri
 ng – Beschluss Abschnitt Everkeweg\n5 Aktueller Zwischenstand zur Winden
 ergie in Beckum\n6 Bauvorhaben Antoniusstraße 9 – Betreuungseinrichtung 
 zur Verselbstständigung junger Erwachsener\n7 Evaluation der Wohnbedarfs
 analyse aus dem Jahr 2017 – Antrag der Fraktion Bündnis 90/Die Grünen\n8
  Neugestaltung des östlichen Hellbachtals – Beschluss über die Querung d
 es Hellbachtals zwischen der Adolf-Kolping-Straße und der Straße Am Hell
 bach\n9 Anfragen von Ausschussmitgliedern
UID:88_GrhfheoqJxAXG
END:VEVENT
END:VCALENDAR
