BEGIN:VCALENDAR
PRODID:-//IONAS//RIS//DE
VERSION:2.0
CALSCALE:GREGORIAN
BEGIN:VEVENT
DTSTAMP:20260420T172055Z
DTSTART:20241119T170000
DTEND:20241119T185500
SUMMARY:öffentliche/nicht öffentliche Sitzung des Ausschusses für Inklusi
 on\, Gleichstellung\, Soziales\, Wohnen und Ehrenamt
LOCATION:Antoniusschule – Aula\, \, null null
DESCRIPTION:Tagesordnungspunkte\n1 Anfragen von Einwohnerinnen und Einwoh
 nern\n2 Niederschrift über die Sitzung des Ausschusses für Inklusion\, G
 leichstellung\, Soziales\, Wohnen und Ehrenamt vom 19.09.2024 – öffentli
 cher Teil –\n3 Bericht der Verwaltung\n4 Bericht über offene Anträge und
  Anfragen der Fraktionen sowie über offene Anregungen und Beschwerden ge
 mäß § 24 Gemeindeordnung für das Land Nordrhein-Westfalen\n5 Älterwerden
  in Beckum – Fortschreibung der Seniorinnen- und Seniorenplanung\n6 1. B
 ericht des Integrationsmanagements zum Aufbau und zur Bearbeitung der er
 sten Schwerpunkte der Integrationsarbeit\n7 Beratung des Haushaltsplanen
 twurfes 2025 für die Bereiche Soziales und Gleichstellung\n Beratung des
  Haushaltsplanentwurfes 2025 für die Bereiche Soziales und Gleichstellun
 g\n8 Anfragen von Ausschussmitgliedern
UID:Apwqb80-yMF49Ig5
END:VEVENT
END:VCALENDAR
