BEGIN:VCALENDAR
PRODID:-//IONAS//RIS//DE
VERSION:2.0
CALSCALE:GREGORIAN
BEGIN:VEVENT
DTSTAMP:20260420T172055Z
DTSTART:20220511T170000
DTEND:20220511T183000
SUMMARY:öffentliche/nicht öffentliche Sitzung des Ausschusses für Inklusi
 on\, Gleichstellung\, Soziales\, Wohnen und Ehrenamt
LOCATION:Gesamtschule Ennigerloh-Neubeckum – Mensa\, \, null null
DESCRIPTION:Tagesordnungspunkte\n1 Anfragen von Einwohnerinnen und Einwoh
 nern\n2 Niederschrift über die Sitzung des Ausschusses für Inklusion\, G
 leichstellung\, Soziales\, Wohnen und Ehrenamt vom 10.03.2022 – öffentli
 cher Teil –\n3 Bericht der Verwaltung\n4 Bericht über offene Anträge und
  Anfragen der Fraktionen sowie über offene Anregungen und Beschwerden ge
 mäß § 24 Gemeindeordnung für das Land Nordrhein-Westfalen\n5 Vorstellung
  der Arbeit des Mehrgenerationenhaus Mütterzentrum Beckum e. V.\n6 Vorst
 ellung der altenpolitischen Anliegen der Arbeitsgemeinschaft Beckumer Al
 tenpolitik\n7 Anfragen von Ausschussmitgliedern
UID:BnbHQ6ueAW6UcDW3
END:VEVENT
END:VCALENDAR
