BEGIN:VCALENDAR
PRODID:-//IONAS//RIS//DE
VERSION:2.0
CALSCALE:GREGORIAN
BEGIN:VEVENT
DTSTAMP:20260420T172057Z
DTSTART:20260505T173000
DTEND:20260505T000000
SUMMARY:öffentliche/nicht öffentliche Sitzung des Ausschusses für Inklusi
 on\, Gleichstellung\, Soziales\, Wohnen und Ehrenamt
LOCATION:Antoniusschule – Aula\, \, null null
DESCRIPTION:
UID:EIS3aJrY2wS1Ck8B
END:VEVENT
END:VCALENDAR
