BEGIN:VCALENDAR
PRODID:-//IONAS//RIS//DE
VERSION:2.0
CALSCALE:GREGORIAN
BEGIN:VEVENT
DTSTAMP:20260420T135552Z
DTSTART:20240528T170000
DTEND:20240528T190000
SUMMARY:öffentliche/nicht öffentliche Sitzung des Ausschusses für Stadten
 twicklung
LOCATION:Antoniusschule – Aula\, \, null null
DESCRIPTION:Tagesordnungspunkte\n1 Anfragen von Einwohnerinnen und Einwoh
 nern\n2 Bericht der Verwaltung\n3 Windenergie in Beckum - Projektvorstel
 lung der WWU Wind GmbH\n4 Windenergie in Beckum - Projektvorstellung der
  WS Consulting\n5 Windenergie in Beckum - Projektvorstellung der VenSol 
 Neue Energien GmbH\n6 Windenergie in Beckum - Projektvorstellung der Wes
 tfalenWIND GmbH\n7 Windenergie in Beckum - Projektvorstellung der Betrei
 bergemeinschaft Tentrup-Beckstedde\n8 Windenergie in Beckum - Grundsatze
 ntscheidung zur zukünftigen Entwicklung\n9 Anfragen von Ausschussmitglie
 dern
UID:EyKIBhf_kws8NlAB
END:VEVENT
END:VCALENDAR
