BEGIN:VCALENDAR
PRODID:-//IONAS//RIS//DE
VERSION:2.0
CALSCALE:GREGORIAN
BEGIN:VEVENT
DTSTAMP:20260420T172231Z
DTSTART:20211123T170000
DTEND:20211123T180500
SUMMARY:öffentliche/nicht öffentliche Sitzung des Ausschusses für Inklusi
 on\, Gleichstellung\, Soziales\, Wohnen und Ehrenamt
LOCATION:Gesamtschule Ennigerloh-Neubeckum – Mensa\, \, null null
DESCRIPTION:Tagesordnungspunkte\n1 Anfragen von Einwohnerinnen und Einwoh
 nern\n2 Niederschrift über die Sitzung des Ausschusses für Inklusion\, G
 leichstellung\, Soziales\, Wohnen und Ehrenamt vom 02.06.2021 – öffentli
 cher Teil –\n3 Bericht der Verwaltung\n4 Umsetzung der Istanbul Konventi
 on auf kommunaler Ebene\n5 Beratung des Haushaltsplanentwurfes 2022 für 
 die Bereiche Soziales und Gleichstellung\n5.1 Beratung des Haushaltsplan
 entwurfes 2022 für die Bereiche Soziales und Gleichstellung\n6 Anfragen 
 von Ausschussmitgliedern
UID:F0cRxxJgm2nw_qd2
END:VEVENT
END:VCALENDAR
