BEGIN:VCALENDAR
PRODID:-//IONAS//RIS//DE
VERSION:2.0
CALSCALE:GREGORIAN
BEGIN:VEVENT
DTSTAMP:20260420T135733Z
DTSTART:20261013T173000
DTEND:20261013T000000
SUMMARY:öffentliche/nicht öffentliche Sitzung des Ausschusses für Stadten
 twicklung
LOCATION:Antoniusschule – Aula\, \, null null
DESCRIPTION:
UID:FVVh0ye6whzbjcgT
END:VEVENT
END:VCALENDAR
