BEGIN:VCALENDAR
PRODID:-//IONAS//RIS//DE
VERSION:2.0
CALSCALE:GREGORIAN
BEGIN:VEVENT
DTSTAMP:20260420T172239Z
DTSTART:20210304T170000
DTEND:20210304T183500
SUMMARY:öffentliche/nicht öffentliche Sitzung des Ausschusses für Inklusi
 on\, Gleichstellung\, Soziales\, Wohnen und Ehrenamt
LOCATION:Gesamtschule Ennigerloh-Neubeckum – Mensa\, \, null null
DESCRIPTION:Tagesordnungspunkte\n1 Bestellung der Schriftführung\n2 Einfü
 hrung und Verpflichtung der sachkundigen Bürgerinnen und Bürger sowie de
 r sachkundigen Einwohnerinnen und Einwohner\n3 Anfragen von Einwohnerinn
 en und Einwohnern\n4 Niederschrift über die Sitzung des Ausschusses für 
 Inklusion\, Frauen\, Soziales vom 02.09.2020 – öffentlicher Teil –\n5 Be
 richt der Verwaltung\n6 Beratung des Haushaltsplanentwurfes 2021 für die
  Bereiche Soziales und Gleichstellung\n7 Organisation und Aufgaben des F
 achdienstes Soziale Dienste\n8 Fortschreibung der Beckumer Altenplanung\
 n9 Anfragen von Ausschussmitgliedern
UID:G38OJv_mI8V0t8j-
END:VEVENT
END:VCALENDAR
