BEGIN:VCALENDAR
PRODID:-//IONAS//RIS//DE
VERSION:2.0
CALSCALE:GREGORIAN
BEGIN:VEVENT
DTSTAMP:20260420T172206Z
DTSTART:20250923T170000
DTEND:20250923T184100
SUMMARY:öffentliche/nicht öffentliche Sitzung des Ausschusses für Inklusi
 on\, Gleichstellung\, Soziales\, Wohnen und Ehrenamt
LOCATION:Antoniusschule – Aula\, \, null null
DESCRIPTION:Tagesordnungspunkte\n1 Anfragen von Einwohnerinnen und Einwoh
 nern\n2 Niederschriften über die Sitzung des Ausschusses für Inklusion\,
  Gleichstellung\, Soziales\, Wohnen und Ehrenamt vom 13.02.2025 und über
  die gemeinsame Sitzung mit dem Integrationsrat vom 06.05.2025 – öffentl
 iche Teile –\n3 Bericht der Verwaltung\n4 Vorstellung der \"Starken Stel
 le\" für Mandatsträgerinnen und Mandatsträger\n5 Vorstellung des Projekt
 s \"Wir im Quartier Mitte\"\n6 Vorstellung des 4. Gleichstellungsbericht
 s der Bundesregierung\n7 Sachstandsbericht zur Umsetzung der Istanbul Ko
 nvention auf kommunaler Ebene\n8 Sachstand zur Maßnahmenplanung der Seni
 orinnen- und Seniorenplanung \"Älterwerden in Beckum\"\n9 Anfragen von A
 usschussmitgliedern
UID:GL55odbPCbwQ3snT
END:VEVENT
END:VCALENDAR
