BEGIN:VCALENDAR
PRODID:-//IONAS//RIS//DE
VERSION:2.0
CALSCALE:GREGORIAN
BEGIN:VEVENT
DTSTAMP:20260420T172232Z
DTSTART:20240919T170000
DTEND:20240919T184900
SUMMARY:öffentliche/nicht öffentliche Sitzung des Ausschusses für Inklusi
 on\, Gleichstellung\, Soziales\, Wohnen und Ehrenamt
LOCATION:Antoniusschule – Aula\, \, null null
DESCRIPTION:Tagesordnungspunkte\n1 Anfragen von Einwohnerinnen und Einwoh
 nern\n2 Niederschrift über die Sitzung des Ausschusses für Inklusion\, G
 leichstellung\, Soziales\, Wohnen und Ehrenamt vom 05.06.2024 – öffentli
 cher Teil –\n3 Bericht der Verwaltung\n4 Vorstellung des Umsetzungsstand
  Anonyme Spurensicherung im Kreis Warendorf\n5 Vorstellung des Projekts 
 vielfälTIQ* durch die Projektverantwortlichen\n6 Vorstellung der Planung
  zur Umsetzung der Istanbul Konvention auf kommunaler Ebene\n7 Anfragen 
 von Ausschussmitgliedern
UID:IYpLk_kW8ag73QzF
END:VEVENT
END:VCALENDAR
