BEGIN:VCALENDAR
PRODID:-//IONAS//RIS//DE
VERSION:2.0
CALSCALE:GREGORIAN
BEGIN:VEVENT
DTSTAMP:20260420T083659Z
DTSTART:20120705T170000
DTEND:20120705T174500
SUMMARY:öffentliche/nicht öffentliche Sitzung des Rates der Stadt Beckum
LOCATION:Antoniusschule – Aula\, \, null null
DESCRIPTION:Tagesordnungspunkte\n1 Anfragen von Einwohnerinnen und Einwoh
 nern\n2 Niederschrift über die Sitzung des Rates vom 26.04.2012 - öffent
 licher Teil -\n3 Bericht des Bürgermeisters\n4 Organisationsform des Abw
 asserbetriebes der Stadt Beckum\n5 Fortschreibung des integrierten Handl
 ungs- und Maßnahmenkonzeptes für die Innenstadt Beckum\n6 Satzung der St
 adt Beckum über die förmliche Festlegung des Sanierungsgebietes \"Innens
 tadt Beckum\"\n7 Benennung des Gewerbegebiets im Bebauungsplan Nr. 60 \"
 Obere Brede/Tuttenbrock\"\n8 Bericht über den Sachstand der Evaluierung 
 der Maßnahmen zur \"Konsolidierung des Haushaltes 2010 ff der Stadt Beck
 um\"\, Antrag der SPD-Fraktion vom 01.06.2012\n9 Jahresabschluss 2011 de
 s Eigenbetriebes \"Städtische Betriebe Beckum\" und Verwendung des Jahre
 sergebnisses\n10 Entlastung des Betriebsausschusses für das Geschäftsjah
 r 2011 des Eigenbetriebes \"Städtische Betriebe Beckum\"\n11 Änderung de
 r Satzung über die Erhebung von Gebühren für die Benutzung der Bäder der
  Stadt Beckum\n12 Neufassung der Gebührensatzung für die Volkshochschule
  Beckum-Wadersloh\n13 Neufassung der Honorarordnung der Volkshochschule 
 Beckum-Wadersloh\n14 Neufassung der Ehrungsrichtlinien\n15 Öffentlich-re
 chtliche Vereinbarung zwischen dem Kreis Warendorf und der Stadt Beckum 
 für die Überwachung der Kleinkläranlagen\n16 Neubesetzung im Schul-\, Ku
 ltur- und Sportausschuss\n17 Stellungnahme zur geplanten Errichtung eine
 r Sekundarschule in der Gemeinde Wadersloh\n18 Beendigung des Umlegungsv
 erfahrens im Gebiet des Bebauungsplans Nr. 60 Gewerbegebiet \"Obere Bred
 e/Tuttenbrock\"\n19 Anfragen
UID:N3-2rTMqAB9py_hP
END:VEVENT
END:VCALENDAR
