BEGIN:VCALENDAR
PRODID:-//IONAS//RIS//DE
VERSION:2.0
CALSCALE:GREGORIAN
BEGIN:VEVENT
DTSTAMP:20260420T135700Z
DTSTART:20260630T173000
DTEND:20260630T000000
SUMMARY:öffentliche/nicht öffentliche Sitzung des Ausschusses für Stadten
 twicklung
LOCATION:Antoniusschule – Aula\, \, null null
DESCRIPTION:
UID:NYFA6LiiSNkWeDTm
END:VEVENT
END:VCALENDAR
