BEGIN:VCALENDAR
PRODID:-//IONAS//RIS//DE
VERSION:2.0
CALSCALE:GREGORIAN
BEGIN:VEVENT
DTSTAMP:20260420T135700Z
DTSTART:20231122T170000
DTEND:20231122T174700
SUMMARY:öffentliche/nicht öffentliche Sitzung des Ausschusses für Stadten
 twicklung
LOCATION:Antoniusschule – Aula\, \, null null
DESCRIPTION:Tagesordnungspunkte\n1 Anfragen von Einwohnerinnen und Einwoh
 nern\n2 Niederschriften über die Sitzungen des Ausschusses für Stadtentw
 icklung vom 22.08. und 26.09.2023 – öffentliche Teile –\n3 Bericht der V
 erwaltung\n4 Bericht über offene Anträge und Anfragen der Fraktionen sow
 ie über offene Anregungen und Beschwerden gemäß § 24 Gemeindeordnung für
  das Land Nordrhein-Westfalen\n5 Lärmaktionsplanung (Runde 4) – Vorstell
 ung der Ergebnisse der Lärmkartierung und Beschluss zur frühzeitigen Bet
 eiligung der Öffentlichkeit und der Behörden\n6 Wohnbaulandentwicklung i
 m Stadtteil Roland – Antrag der FDP-Fraktion vom 20.09.2023\n7 Anfragen 
 von Ausschussmitgliedern
UID:O5GNkwwtQ2f9X9bY
END:VEVENT
END:VCALENDAR
