BEGIN:VCALENDAR
PRODID:-//IONAS//RIS//DE
VERSION:2.0
CALSCALE:GREGORIAN
BEGIN:VEVENT
DTSTAMP:20260420T135722Z
DTSTART:20250325T170000
DTEND:20250325T183100
SUMMARY:öffentliche/nicht öffentliche Sitzung des Ausschusses für Stadten
 twicklung
LOCATION:Antoniusschule – Aula\, \, null null
DESCRIPTION:Tagesordnungspunkte\n1 Anfragen von Einwohnerinnen und Einwoh
 nern\n2 Niederschriften über die Sitzungen des Ausschusses für Stadtentw
 icklung vom 27.11.2024 und 11.02.2025 – öffentliche Teile –\n3 Bericht d
 er Verwaltung\n4 Bericht über offene Anträge und Anfragen der Fraktionen
  sowie über offene Anregungen und Beschwerden gemäß § 24 Gemeindeordnung
  für das Land Nordrhein-Westfalen\n5 Dorfplatz Roland – Beschluss zur En
 twurfsplanung\n6 Bebauungsplan Nr. 3 \"Herzfelder Straße\"\, 2. Änderung
  – Aufstellungsbeschluss und Beschluss zur öffentlichen Auslegung\n7 Sac
 hstandsbericht zum Verkehrsentwicklungsplan 2030 und zur Lärmaktionsplan
 ung\n8 Radverkehrskonzept – Sachstandsbericht und aktualisierte Priorisi
 erung\n9 Anfragen von Ausschussmitgliedern
UID:PGYD6724vPKJw-QF
END:VEVENT
END:VCALENDAR
