BEGIN:VCALENDAR
PRODID:-//IONAS//RIS//DE
VERSION:2.0
CALSCALE:GREGORIAN
BEGIN:VEVENT
DTSTAMP:20260421T164724Z
DTSTART:20230531T170000
DTEND:20230531T192500
SUMMARY:öffentliche/nicht öffentliche Sitzung des Ausschusses für Bauen\,
  Umwelt\, Klimaschutz\, Energie und Vergaben
LOCATION:Gesamtschule Ennigerloh-Neubeckum – Mensa\, \, null null
DESCRIPTION:Tagesordnungspunkte\n1 Anfragen von Einwohnerinnen und Einwoh
 nern\n2 Niederschrift über die Sitzung des Ausschusses für Bauen\, Umwel
 t\, Klimaschutz\, Energie und Vergaben vom 29.03.2023 – öffentlicher Tei
 l –\n3 Bericht der Verwaltung\n4 Bericht über offene Anträge und Anfrage
 n der Fraktionen sowie über offene Anregungen und Beschwerden gemäß § 24
  Gemeindeordnung für das Land Nordrhein-Westfalen\n5 Neubau der Sonnensc
 hule – Vorstellung der Machbarkeitsstudie\n6 Verkehrssituation am Holtma
 rweg – Anfrage der CDU-Fraktion vom 14.09.2022 sowie Antrag der FWG-Frak
 tion vom 19.09.2022\n7 Schulhofgestaltung an der Gesamtschule Ennigerloh
 -Neubeckum am Standort Neubeckum\n8 Ersatzneubau des Brückenbauwerks (BW
 0039)  Im Werl über die Angel\n9 Beibehaltung der Gelben Tonne\n10 Anfra
 gen von Ausschussmitgliedern
UID:Ql0XF83Z4FvT0p-w
END:VEVENT
END:VCALENDAR
