BEGIN:VCALENDAR
PRODID:-//IONAS//RIS//DE
VERSION:2.0
CALSCALE:GREGORIAN
BEGIN:VEVENT
DTSTAMP:20260421T103132Z
DTSTART:20230525T170000
DTEND:20230525T191000
SUMMARY:öffentliche/nicht öffentliche Sitzung des Ausschusses für Inklusi
 on\, Gleichstellung\, Soziales\, Wohnen und Ehrenamt
LOCATION:Alte Gärtnerei\, \, null null
DESCRIPTION:Tagesordnungspunkte\n1 Anfragen von Einwohnerinnen und Einwoh
 nern\n2 Niederschrift über die Sitzung des Ausschusses für Inklusion\, G
 leichstellung\, Soziales\, Wohnen und Ehrenamt vom 30.03.2023 – öffentli
 cher Teil –\n3 Bericht der Verwaltung\n4 Bericht über offene Anträge und
  Anfragen der Fraktionen sowie über offene Anregungen und Beschwerden ge
 mäß § 24 Gemeindeordnung für das Land Nordrhein-Westfalen\n5 Fortschreib
 ung des Inklusionsplans zur Umsetzung der UN-Behindertenrechtskonvention
  der Stadt Beckum 2023\n6 Erstellung eines kommunalen Aktionsplanes gege
 n Gewalt an Frauen und Mädchen gemäß Istanbuler Konvention – Antrag der 
 Fraktion Bündnis 90/Die Grünen vom 17.02.2022\n7 Aufbau eines Integratio
 nsmanagements in Beckum\n8 Anfragen von Ausschussmitgliedern
UID:STwDX1Ic-3NFr_ZZ
END:VEVENT
END:VCALENDAR
