BEGIN:VCALENDAR
PRODID:-//IONAS//RIS//DE
VERSION:2.0
CALSCALE:GREGORIAN
BEGIN:VEVENT
DTSTAMP:20260420T172031Z
DTSTART:20240905T170000
DTEND:20240905T183000
SUMMARY:nicht öffentliche Sitzung des Rechnungsprüfungsausschusses
LOCATION:Antoniusschule – Aula\, \, null null
DESCRIPTION:
UID:TB3mUGG6OqmZbYvc
END:VEVENT
END:VCALENDAR
