BEGIN:VCALENDAR
PRODID:-//IONAS//RIS//DE
VERSION:2.0
CALSCALE:GREGORIAN
BEGIN:VEVENT
DTSTAMP:20260420T172239Z
DTSTART:20250213T170000
DTEND:20250213T175400
SUMMARY:öffentliche/nicht öffentliche Sitzung des Ausschusses für Inklusi
 on\, Gleichstellung\, Soziales\, Wohnen und Ehrenamt
LOCATION:Rosa Parks Gesamtschule – Mensa\, \, null null
DESCRIPTION:Tagesordnungspunkte\n1 Anfragen von Einwohnerinnen und Einwoh
 nern\n2 Niederschrift über die Sitzung des Ausschusses für Inklusion\, G
 leichstellung\, Soziales\, Wohnen und Ehrenamt vom 19.11.2024 – öffentli
 cher Teil –\n3 Bericht der Verwaltung\n4 Bericht über offene Anträge und
  Anfragen der Fraktionen sowie über offene Anregungen und Beschwerden ge
 mäß § 24 Gemeindeordnung für das Land Nordrhein-Westfalen\n5 Vorstellung
  des Projekts \"Besser jetzt – gut beraten ins Alter\" des Kreises Waren
 dorf\n6 Älterwerden in Beckum – Fortschreibung der Seniorinnen- und Seni
 orenplanung\n7 Anfragen von Ausschussmitgliedern
UID:U8X-gEc8nVfEJvAN
END:VEVENT
END:VCALENDAR
