BEGIN:VCALENDAR
PRODID:-//IONAS//RIS//DE
VERSION:2.0
CALSCALE:GREGORIAN
BEGIN:VEVENT
DTSTAMP:20260421T172729Z
DTSTART:20230615T170000
DTEND:20230615T181500
SUMMARY:öffentliche/nicht öffentliche Sitzung des Betriebsausschusses
LOCATION:Antoniusschule – Aula\, \, null null
DESCRIPTION:Tagesordnungspunkte\n1 Anfragen von Einwohnerinnen und Einwoh
 nern\n2 Niederschrift über die Sitzung des Betriebsausschusses vom 26.04
 .2023 – öffentlicher Teil –\n3 Bericht der Verwaltung\n4 Bericht über of
 fene Anträge und Anfragen der Fraktionen sowie über offene Anregungen un
 d Beschwerden gemäß § 24 Gemeindeordnung für das Land Nordrhein-Westfale
 n\n5 Anfragen von Ausschussmitgliedern\n6 Jahresabschluss 2022 der Städt
 ischen Betriebe Beckum und Verwendung des Jahresergebnisses\n7 Entlastun
 g der Betriebsleitung der Städtischen Betriebe Beckum für das Geschäftsj
 ahr 2022\n8 Jahresabschluss 2022 des Städtischen Abwasserbetriebes Becku
 m und Verwendung des Jahresergebnisses\n9 Entlastung der Betriebsleitung
  des Städtischen Abwasserbetriebes Beckum für das Geschäftsjahr 2022
UID:V88jJ-QRGMI2PqVq
END:VEVENT
END:VCALENDAR
