BEGIN:VCALENDAR
PRODID:-//IONAS//RIS//DE
VERSION:2.0
CALSCALE:GREGORIAN
BEGIN:VEVENT
DTSTAMP:20260421T102956Z
DTSTART:20230914T170000
DTEND:20230914T190000
SUMMARY:öffentliche/nicht öffentliche Sitzung des Ausschusses für Inklusi
 on\, Gleichstellung\, Soziales\, Wohnen und Ehrenamt
LOCATION:\, \, null null
DESCRIPTION:Tagesordnungspunkte\n1 Anfragen von Einwohnerinnen und Einwoh
 nern\n2 Niederschrift über die Sitzung des Ausschusses für Inklusion\, G
 leichstellung\, Soziales\, Wohnen und Ehrenamt vom 25.05.2023 – öffentli
 cher Teil –\n3 Bericht der Verwaltung\n4 Bericht über offene Anträge und
  Anfragen der Fraktionen sowie über offene Anregungen und Beschwerden ge
 mäß § 24 Gemeindeordnung für das Land Nordrhein-Westfalen\n5 Vorstellung
  der Mütterzentrum Soziales Netzwerk gGmbH\n6 Übersetzung der Neubürgerb
 roschüre in Leichte Sprache\n7 Vorstellung des Gesamtkonzeptes \"Älterwe
 rden im Kreis Warendorf\"\n8 1. Satzung der Stadt Beckum zur Änderung de
 r Satzung über die Unterkünfte für Flüchtlinge und Obdachlose\n9 Anfrage
 n von Ausschussmitgliedern
UID:Y6JYFAMXEGN1fb29
END:VEVENT
END:VCALENDAR
