BEGIN:VCALENDAR
PRODID:-//IONAS//RIS//DE
VERSION:2.0
CALSCALE:GREGORIAN
BEGIN:VEVENT
DTSTAMP:20260420T135722Z
DTSTART:20260303T173000
DTEND:20260303T193500
SUMMARY:öffentliche/nicht öffentliche Sitzung des Ausschusses für Stadten
 twicklung
LOCATION:Antoniusschule – Aula\, \, null null
DESCRIPTION:Tagesordnungspunkte\n1 Bestellung einer Schriftführung\n2 Anf
 ragen von Einwohnerinnen und Einwohnern\n3 Bericht der Verwaltung\n4 Bau
 vorhaben Neustraße – Neubau von 2 Mehrfamilienhäuser mit 16 Wohneinheite
 n\n5 Bebauungsplan Nummer 74 \"An der Steinbruchallee\"\n5.1 Bebauungspl
 an Nummer 74 \"An der Steinbruchallee\"\n6 Gesetz zur Beschleunigung des
  Wohnungsbaus und zur Wohnraumsicherung (\"Bauturbo\") – Beschluss zur V
 orgehensweise\n7 Bahnhofsgebäude Neubeckum: weitere Handlungsoptionen pr
 üfen und entwickeln – Antrag der FWG-Fraktion vom 15.02.2026\n8 Anfragen
  von Ausschussmitgliedern
UID:YfD9wZQx26yV_cOf
END:VEVENT
END:VCALENDAR
