BEGIN:VCALENDAR
PRODID:-//IONAS//RIS//DE
VERSION:2.0
CALSCALE:GREGORIAN
BEGIN:VEVENT
DTSTAMP:20260420T172208Z
DTSTART:20210427T163200
DTEND:20210427T172500
SUMMARY:öffentliche Sitzung des Haupt-\, Finanz- und Digitalausschusses g
 emeinsam mit dem Rechnungsprüfungsausschuss
LOCATION:Berufskolleg Beckum – Aula\, \, null null
DESCRIPTION:Tagesordnungspunkte\n1 Bestimmung eines Vorsitzes\n1 Bestimmu
 ng eines Vorsitzes\n1 Bestimmung eines Vorsitzes\n2 Bestimmung einer Sch
 riftführung\n2 Bestimmung einer Schriftführung\n2 Bestimmung einer Schri
 ftführung\n3 Anfragen von Einwohnerinnen und Einwohnern\n3 Anfragen von 
 Einwohnerinnen und Einwohnern\n3 Anfragen von Einwohnerinnen und Einwohn
 ern\n4 Überörtliche Prüfung der Stadt Beckum durch die Gemeindeprüfungsa
 nstalt Nordrhein-Westfalen im Jahr 2020 – Vorstellung der Prüfungsergebn
 isse\n4 Überörtliche Prüfung der Stadt Beckum durch die Gemeindeprüfungs
 anstalt Nordrhein-Westfalen im Jahr 2020 – Vorstellung der Prüfungsergeb
 nisse\n4 Überörtliche Prüfung der Stadt Beckum durch die Gemeindeprüfung
 sanstalt Nordrhein-Westfalen im Jahr 2020 – Vorstellung der Prüfungserge
 bnisse\n5 Anfragen von Rats- und Ausschussmitgliedern\n5 Anfragen von Ra
 ts- und Ausschussmitgliedern\n5 Anfragen von Rats- und Ausschussmitglied
 ern
UID:ZQIo0v2UrLSP4Mmh
END:VEVENT
END:VCALENDAR
