BEGIN:VCALENDAR
PRODID:-//IONAS//RIS//DE
VERSION:2.0
CALSCALE:GREGORIAN
BEGIN:VEVENT
DTSTAMP:20260420T135322Z
DTSTART:20250709T170000
DTEND:20250709T191900
SUMMARY:öffentliche/nicht öffentliche Sitzung des Ausschusses für Stadten
 twicklung
LOCATION:Antoniusschule – Aula\, \, null null
DESCRIPTION:Tagesordnungspunkte\n1 Anfragen von Einwohnerinnen und Einwoh
 nern\n2 Niederschriften über die Sitzungen des Ausschusses für Stadtentw
 icklung vom 25.03.2025 und 24.06.2025 – öffentliche Teile –\n3 Bericht d
 er Verwaltung\n4 Neugestaltung des östlichen Hellbachtals\n4.1 Antrag au
 f Aussetzen des Planfeststellungsverfahrens\n4.2 Antrag auf Beauftragung
  des Ingenieurbüro U Plan GmbH\n5 Anfragen von Ausschussmitgliedern
UID:dXnvAsoWdQrg1A6G
END:VEVENT
END:VCALENDAR
