BEGIN:VCALENDAR
PRODID:-//IONAS//RIS//DE
VERSION:2.0
CALSCALE:GREGORIAN
BEGIN:VEVENT
DTSTAMP:20260421T135903Z
DTSTART:20220203T170000
DTEND:20220203T193700
SUMMARY:öffentliche/nicht öffentliche Sitzung des Ausschusses für Stadten
 twicklung
LOCATION:Antoniusschule – Aula\, \, null null
DESCRIPTION:Tagesordnungspunkte\n1 Anfragen von Einwohnerinnen und Einwoh
 nern\n2 Niederschriften über die Sitzungen des Ausschusses für Stadtentw
 icklung vom 24.11. und 15.12.2021 – öffentliche Teile –\n3 Bericht der V
 erwaltung\n4 Erweiterungsabsichten der Berief Food GmbH\n5 19. Änderung 
 des Flächennutzungsplans \"ALDI Lippweg\" – Aufstellungsbeschluss und Be
 schluss zur frühzeitigen Beteiligung\n6 Vorhabenbezogener Bebauungsplan 
 \"ALDI Lippweg\" – Aufstellungsbeschluss und Beschluss zur frühzeitigen 
 Beteiligung\n7 Städtebaulicher Vertrag zur Übernahme von Planungsleistun
 gen und -kosten zur Aufstellung des vorhabenbezogenen Bebauungsplanes „A
 ldi Lippweg“ sowie die Änderung des Flächennutzungsplans\n8 Städtebaulic
 her Vertrag zur Übernahme von Planungsleistungen und -kosten zur Änderun
 g des Bebauungsplanes Nummer N 67 \"Vellerner Straße\" sowie die Änderun
 g des Flächennutzungsplans\n9 Radverkehrskonzept\n10 Investor(inn)enausw
 ahlverfahren – Integrierte Gesamtplanung \"Auf dem Jakob\" – Folgenutzun
 g des aktuellen Schulstandortes der Astrid-Lindgren-Schule\n10.1 Investo
 r(inn)enauswahlverfahren – Integrierte Gesamtplanung \"Auf dem Jakob\" –
  Folgenutzung des aktuellen Schulstandortes der Astrid-Lindgren-Schule\n
 11 Anfragen von Ausschussmitgliedern
UID:fskkIzxo-I2_2dq9
END:VEVENT
END:VCALENDAR
