BEGIN:VCALENDAR
PRODID:-//IONAS//RIS//DE
VERSION:2.0
CALSCALE:GREGORIAN
BEGIN:VEVENT
DTSTAMP:20260420T135552Z
DTSTART:20260128T173000
DTEND:20260128T185700
SUMMARY:öffentliche/nicht öffentliche Sitzung des Ausschusses für Stadten
 twicklung
LOCATION:Rosa Parks Gesamtschule – Mensa\, \, null null
DESCRIPTION:Tagesordnungspunkte\n1 Bestellung einer Schriftführung\n2 Anf
 ragen von Einwohnerinnen und Einwohnern\n3 Bericht der Verwaltung\n4 Ber
 icht über offene Anträge und Anfragen der Fraktionen sowie über offene A
 nregungen und Beschwerden gemäß § 24 Gemeindeordnung für das Land Nordrh
 ein-Westfalen\n5 2. Änderung des Bebauungsplans Nummer 15 \"Neubeckumer 
 Straße/Grüner Weg\"\n6 Bebauungsplan Nummer N20 \"Mauerstraße/Hauptstraß
 e/Kaiser-Wilhelm-Straße\" – Aufstellungs- und Offenlagebeschluss für die
  1. Änderung zur Erweiterung des Rossmann-Marktes an der Hauptstraße\n7 
 Beratung des Haushaltsplanes 2026 für den Bereich Stadtentwicklung\n Ber
 atung des Haushaltsplanes 2026 für den Bereich Stadtentwicklung\n Beratu
 ng des Haushaltsplanes 2026 für den Bereich Stadtentwicklung\n Beratung 
 des Haushaltsplanes 2026 für den Bereich Stadtentwicklung\n8 Anfragen vo
 n Ausschussmitgliedern
UID:gRhVu_KU6z8Mfkvx
END:VEVENT
END:VCALENDAR
