BEGIN:VCALENDAR
PRODID:-//IONAS//RIS//DE
VERSION:2.0
CALSCALE:GREGORIAN
BEGIN:VEVENT
DTSTAMP:20260420T172054Z
DTSTART:20240125T170000
DTEND:20240125T172300
SUMMARY:öffentliche/nicht öffentliche Sitzung des Ausschusses für Inklusi
 on\, Gleichstellung\, Soziales\, Wohnen und Ehrenamt
LOCATION:Antoniusschule – Aula\, \, null null
DESCRIPTION:Tagesordnungspunkte\n1 Anfragen von Einwohnerinnen und Einwoh
 nern\n2 Niederschrift über die Sitzung des Ausschusses für Inklusion\, G
 leichstellung\, Soziales\, Wohnen und Ehrenamt vom 14.11.2023 – öffentli
 cher Teil –\n3 Bericht der Verwaltung\n4 Bericht über offene Anträge und
  Anfragen der Fraktionen sowie über offene Anregungen und Beschwerden ge
 mäß § 24 Gemeindeordnung für das Land Nordrhein-Westfalen\n5 Beratung de
 s Haushaltsplanentwurfes 2024 für die Bereiche Soziales und Gleichstellu
 ng\n Beratung des Haushaltsplanentwurfes 2024 für die Bereiche Soziales 
 und Gleichstellung\n6 Anfragen von Ausschussmitgliedern
UID:mST-8Q4Ve6YraHEk
END:VEVENT
END:VCALENDAR
