BEGIN:VCALENDAR
PRODID:-//IONAS//RIS//DE
VERSION:2.0
CALSCALE:GREGORIAN
BEGIN:VEVENT
DTSTAMP:20260420T172039Z
DTSTART:20260902T173000
DTEND:20260902T000000
SUMMARY:nicht öffentliche Sitzung des Rechnungsprüfungsausschusses
LOCATION:Rathaus Beckum – Besprechungsraum 152\, \, null null
DESCRIPTION:
UID:mWRYzM_kYvUKh21b
END:VEVENT
END:VCALENDAR
