BEGIN:VCALENDAR
PRODID:-//IONAS//RIS//DE
VERSION:2.0
CALSCALE:GREGORIAN
BEGIN:VEVENT
DTSTAMP:20260420T172031Z
DTSTART:20250429T170500
DTEND:20250429T180500
SUMMARY:nicht öffentliche Sitzung des Rechnungsprüfungsausschusses
LOCATION:Rathaus Beckum – Besprechungsraum 152\, \, null null
DESCRIPTION:
UID:pBFQBIv-u_YIR7VC
END:VEVENT
END:VCALENDAR
