BEGIN:VCALENDAR
PRODID:-//IONAS//RIS//DE
VERSION:2.0
CALSCALE:GREGORIAN
BEGIN:VEVENT
DTSTAMP:20260421T170807Z
DTSTART:20220209T170000
DTEND:20220209T182500
SUMMARY:öffentliche/nicht öffentliche Sitzung des Betriebsausschusses
LOCATION:Antoniusschule – Aula\, \, null null
DESCRIPTION:Tagesordnungspunkte\n1 Anfragen von Einwohnerinnen und Einwoh
 nern\n2 Niederschrift über die Sitzung des Betriebsausschusses vom 30.11
 .2021 – öffentlicher Teil –\n3 Bericht der Verwaltung\n4 Bericht über of
 fene Anträge und Anfragen der Fraktionen sowie über offene Anregungen un
 d Beschwerden gemäß § 24 Gemeindeordnung für das Land Nordrhein-Westfale
 n\n5 Abschluss eines städtebaulichen Vertrages mit der neuen Eigentümeri
 n zur Entwicklung von Wohnbebauung im Bebauungsplan Nummer 37 \"Südring\
 " – 3. Änderung\n6 Änderung der Bädergebührensatzung\n6.1 Änderung der B
 ädergebührensatzung\n7 Kanalerneuerung Sudhoferweg von der Stromberger S
 traße bis zum Sudhoferweg Hausnummer 10\n8 Kanalerneuerung Mischwasserka
 nal Schlenkhoffs Weg vom Münsterkamp bis zur Vorhelmer Straße\n9 Neubau 
 eines Mischwasserkanals in der Straße Vinkenberg\n10 Anfragen von Aussch
 ussmitgliedern
UID:r0v19mAg_EYbioez
END:VEVENT
END:VCALENDAR
