BEGIN:VCALENDAR
PRODID:-//IONAS//RIS//DE
VERSION:2.0
CALSCALE:GREGORIAN
BEGIN:VEVENT
DTSTAMP:20260420T172032Z
DTSTART:20220426T170000
DTEND:20220426T180000
SUMMARY:nicht öffentliche Sitzung des Rechnungsprüfungsausschusses
LOCATION:Gesamtschule Ennigerloh-Neubeckum – Mensa\, \, null null
DESCRIPTION:
UID:rQxae5L7PGvSdDqZ
END:VEVENT
END:VCALENDAR
