BEGIN:VCALENDAR
PRODID:-//IONAS//RIS//DE
VERSION:2.0
CALSCALE:GREGORIAN
BEGIN:VEVENT
DTSTAMP:20260420T172233Z
DTSTART:20231114T170000
DTEND:20231114T183500
SUMMARY:öffentliche/nicht öffentliche Sitzung des Ausschusses für Inklusi
 on\, Gleichstellung\, Soziales\, Wohnen und Ehrenamt
LOCATION:Antoniusschule – Aula\, \, null null
DESCRIPTION:Tagesordnungspunkte\n1 Anfragen von Einwohnerinnen und Einwoh
 nern\n2 Niederschrift über die Sitzung des Ausschusses für Inklusion\, G
 leichstellung\, Soziales\, Wohnen und Ehrenamt vom 14.09.2023 – öffentli
 cher Teil –\n3 Bericht der Verwaltung\n4 Bericht über offene Anträge und
  Anfragen der Fraktionen sowie über offene Anregungen und Beschwerden ge
 mäß § 24 Gemeindeordnung für das Land Nordrhein-Westfalen\n5 Vorstellung
  des Projektes \"blick*\"\n6 Beckumer Integrationsmanagement: Aufbau und
  erste Schwerpunkte\n7 Anfragen von Ausschussmitgliedern
UID:u-4oidbua9TkEWhH
END:VEVENT
END:VCALENDAR
