BEGIN:VCALENDAR
PRODID:-//IONAS//RIS//DE
VERSION:2.0
CALSCALE:GREGORIAN
BEGIN:VEVENT
DTSTAMP:20260420T135701Z
DTSTART:20250211T170000
DTEND:20250211T183200
SUMMARY:öffentliche/nicht öffentliche Sitzung des Ausschusses für Stadten
 twicklung
LOCATION:Rosa Parks Gesamtschule – Mensa\, \, null null
DESCRIPTION:Tagesordnungspunkte\n1 Anfragen von Einwohnerinnen und Einwoh
 nern\n2 Niederschrift über die Sitzung des Ausschusses für Stadtentwickl
 ung vom 27.11.2024 – öffentlicher Teil –\n3 Bericht der Verwaltung\n4 Do
 rfplatz Roland – Beschluss zur Vorentwurfsplanung\n5 Entwurfsplanung Eve
 rkeweg – Antrag der CDU-Fraktion vom 27.10.2024\n6 Vorstellung des Konze
 ptes zur Errichtung eines Wanderwegs am Höxberg\n7 Anfragen von Ausschus
 smitgliedern
UID:ushCXwanNLbJ_p_U
END:VEVENT
END:VCALENDAR
