BEGIN:VCALENDAR
PRODID:-//IONAS//RIS//DE
VERSION:2.0
CALSCALE:GREGORIAN
BEGIN:VEVENT
DTSTAMP:20260421T134328Z
DTSTART:20230620T170000
DTEND:20230620T182400
SUMMARY:öffentliche/nicht öffentliche Sitzung des Rates der Stadt Beckum
LOCATION:Gesamtschule Ennigerloh-Neubeckum – Mensa\, \, null null
DESCRIPTION:Tagesordnungspunkte\n1 Anfragen von Einwohnerinnen und Einwoh
 nern\n2 Niederschrift über die Sitzung des Rates der Stadt Beckum vom 27
 .04.2023 – öffentlicher Teil –\n3 Bericht der Verwaltung\n4 Bericht über
  offene Anträge und Anfragen der Fraktionen sowie über offene Anregungen
  und Beschwerden gemäß § 24 Gemeindeordnung für das Land Nordrhein-Westf
 alen\n5 Jahresabschluss 2022 der Stadt Beckum im Entwurf\n5.1 Jahresabsc
 hluss 2022 der Stadt Beckum im Entwurf\n6 Jahresabschluss 2022 der Städt
 ischen Betriebe Beckum und Verwendung des Jahresergebnisses\n7 Jahresabs
 chluss 2022 des Städtischen Abwasserbetriebes Beckum und Verwendung des 
 Jahresergebnisses\n8 Entlastung des Betriebsausschusses der Städtischen 
 Betriebe Beckum für das Geschäftsjahr 2022\n9 Entlastung des Betriebsaus
 schusses des Städtischen Abwasserbetriebes Beckum für das Geschäftsjahr 
 2022\n10 Verzicht auf die Erstellung des Gesamtabschlusses zum 31.12.202
 2\n11 Fortschreibung des Inklusionsplans zur Umsetzung der UN-Behinderte
 nrechtskonvention der Stadt Beckum 2023\n11.1 Fortschreibung des Inklusi
 onsplans zur Umsetzung der UN-Behindertenrechtskonvention der Stadt Beck
 um 2023\n11.2 Fortschreibung des Inklusionsplans zur Umsetzung der UN-Be
 hindertenrechtskonvention der Stadt Beckum 2023\n12 Städtebaulicher Vert
 rag über die Gestaltung des neuen ALDI-Marktes am Haselnussweg\n12.1 Stä
 dtebaulicher Vertrag über die Gestaltung des neuen ALDI-Marktes am Hasel
 nussweg\n13 20. Änderung des Flächennutzungsplans \"Lebensmittelnahverso
 rger am Haselnussweg\" – Beschluss über die im Verfahren eingegangenen S
 tellungnahmen (Abwägungsbeschluss) – Feststellungsbeschluss\n Anregungen
  gemäß § 3 Baugesetzbuch\n Anregungen gemäß § 4 Baugesetzbuch\n 20. Ände
 rung des Flächennutzungsplans einschließlich Begründung mit Umweltberich
 t\n14 1. Änderung des Bebauungsplans Nr. N 67 \"Vellerner Straße\" – Bes
 chluss über die im Verfahren eingegangenen Stellungnahmen (Abwägungsbesc
 hluss) – Satzungsbeschluss\n Anregungen gemäß § 3 Baugesetzbuch\n Anregu
 ngen gemäß § 4 Baugesetzbuch – Stellungnahme Kreis Warendorf vom 20.07.2
 022\n Anregungen gemäß § 4 Baugesetzbuch – Stellungnahme Handwerkskammer
  Münster vom 26.07.2022 und 13.02.2023\n 1. Änderung des Bebauungsplans 
 einschließlich Begründung mit Umweltbericht\n15 Beibehaltung der Gelben 
 Tonne\n16 Anregung nach § 24 Gemeindeordnung für das Land Nordrhein-West
 falen – Beseitigung von Fahrbahnverengungen auf dem Hansaring\n17 Implem
 entierung einer Vertretung der Kulturinitiative Filou e. V. als beratend
 es Mitglied mit Mitwirkungsbeschränkung auf kulturelle Angelegenheiten i
 m Schul-\, Kultur- und Sportausschuss – Antrag der FWG-Fraktion vom 28.1
 1.2022\n18 Anfragen von Ratsmitgliedern
UID:vVixXDWKthUoWp-o
END:VEVENT
END:VCALENDAR
