BEGIN:VCALENDAR
PRODID:-//IONAS//RIS//DE
VERSION:2.0
CALSCALE:GREGORIAN
BEGIN:VEVENT
DTSTAMP:20260420T172207Z
DTSTART:20160119T170000
DTEND:20160119T182700
SUMMARY:öffentliche Sitzung des Haupt- und Finanzausschusses gemeinsam mi
 t dem Rechnungsprüfungsausschuss
LOCATION:Feuer- und Rettungswache Beckum – Schulungsraum\, \, null null
DESCRIPTION:Tagesordnungspunkte\n1 Bestimmung eines Vorsitzenden\n1 Besti
 mmung eines Vorsitzenden\n1 Bestimmung eines Vorsitzenden\n2 Bestimmung 
 eines Schriftführers\n2 Bestimmung eines Schriftführers\n2 Bestimmung ei
 nes Schriftführers\n3 Anfragen von Einwohnerinnen und Einwohnern\n3 Anfr
 agen von Einwohnerinnen und Einwohnern\n3 Anfragen von Einwohnerinnen un
 d Einwohnern\n4 Bericht des Bürgermeisters\n4 Bericht des Bürgermeisters
 \n4 Bericht des Bürgermeisters\n5 Überörtliche Prüfung der Stadt Beckum 
 durch die Gemeindeprüfungsanstalt Nordrhein-Westfalen im Jahre 2015\, Vo
 rstellung des Prüfberichtes\n5 Überörtliche Prüfung der Stadt Beckum dur
 ch die Gemeindeprüfungsanstalt Nordrhein-Westfalen im Jahre 2015\, Vorst
 ellung des Prüfberichtes\n5 Überörtliche Prüfung der Stadt Beckum durch 
 die Gemeindeprüfungsanstalt Nordrhein-Westfalen im Jahre 2015\, Vorstell
 ung des Prüfberichtes\n6 Anfragen von Ratsmitgliedern\n6 Anfragen von Ra
 tsmitgliedern\n6 Anfragen von Ratsmitgliedern
UID:w0gQ-bHD43tYHERR
END:VEVENT
END:VCALENDAR
