BEGIN:VCALENDAR
PRODID:-//IONAS//RIS//DE
VERSION:2.0
CALSCALE:GREGORIAN
BEGIN:VEVENT
DTSTAMP:20260420T135614Z
DTSTART:20250624T170000
DTEND:20250624T191500
SUMMARY:öffentliche/nicht öffentliche Sitzung des Ausschusses für Stadten
 twicklung
LOCATION:Antoniusschule – Aula\, \, null null
DESCRIPTION:Tagesordnungspunkte\n1 Anfragen von Einwohnerinnen und Einwoh
 nern\n2 Niederschrift über die Sitzung des Ausschusses für Stadtentwickl
 ung vom 25.03.2025 – öffentlicher Teil –\n3 Bericht der Verwaltung\n4 Be
 richt über offene Anträge und Anfragen der Fraktionen sowie über offene 
 Anregungen und Beschwerden gemäß § 24 Gemeindeordnung für das Land Nordr
 hein-Westfalen\n5 Errichtung einer Kindertagesstätte auf der Gemeinbedar
 fsfläche \"Im Südfelde\"\n6 Vorstellung zum Zwischenstand des Fahrradstr
 aßenkonzeptes Beckum\n7 Bebauungsplan Nr. 74 \"An der Steinbruchallee\" 
 – Beschluss zur frühzeitigen Beteiligung\n8 Verbesserung der Aufenthalts
 qualität des Marienparks unter Berücksichtigung der Steigerung der Klima
 resilienz – Antrag der Fraktion Bündnis 90/Die Grünen vom 14.05.2025\n9 
 Aktueller Sachstandsbericht Baugebiet Augustastraße in Roland – Antrag d
 er FDP-Fraktion vom 06.06.2025\n10 Anfragen von Ausschussmitgliedern
UID:xAYRrG6HWirmg6TO
END:VEVENT
END:VCALENDAR
